BEGIN:VCALENDAR
VERSION:2.0
PRODID:-//Bellingrath Gardens - ECPv6.15.20//NONSGML v1.0//EN
CALSCALE:GREGORIAN
METHOD:PUBLISH
X-ORIGINAL-URL:https://bellingrath.org
X-WR-CALDESC:Events for Bellingrath Gardens
REFRESH-INTERVAL;VALUE=DURATION:PT1H
X-Robots-Tag:noindex
X-PUBLISHED-TTL:PT1H
BEGIN:VTIMEZONE
TZID:America/Chicago
BEGIN:DAYLIGHT
TZOFFSETFROM:-0600
TZOFFSETTO:-0500
TZNAME:CDT
DTSTART:20250309T080000
END:DAYLIGHT
BEGIN:STANDARD
TZOFFSETFROM:-0500
TZOFFSETTO:-0600
TZNAME:CST
DTSTART:20251102T070000
END:STANDARD
BEGIN:DAYLIGHT
TZOFFSETFROM:-0600
TZOFFSETTO:-0500
TZNAME:CDT
DTSTART:20260308T080000
END:DAYLIGHT
BEGIN:STANDARD
TZOFFSETFROM:-0500
TZOFFSETTO:-0600
TZNAME:CST
DTSTART:20261101T070000
END:STANDARD
BEGIN:DAYLIGHT
TZOFFSETFROM:-0600
TZOFFSETTO:-0500
TZNAME:CDT
DTSTART:20270314T080000
END:DAYLIGHT
BEGIN:STANDARD
TZOFFSETFROM:-0500
TZOFFSETTO:-0600
TZNAME:CST
DTSTART:20271107T070000
END:STANDARD
END:VTIMEZONE
BEGIN:VEVENT
DTSTART;TZID=America/Chicago:20260527T103000
DTEND;TZID=America/Chicago:20260527T113000
DTSTAMP:20260424T083538
CREATED:20260223T162149Z
LAST-MODIFIED:20260420T134022Z
UID:10000277-1779877800-1779881400@bellingrath.org
SUMMARY:Garden Walk & Talk
DESCRIPTION:Experience the beauty of Bellingrath Gardens in every season during our Garden Walk & Talk\, held on the last Wednesday of each month from 10:30 to 11:30 a.m. This engaging monthly garden tour is led by our knowledgeable horticulture experts\, who share insights into what’s blooming\, garden care tips\, and behind-the-scenes details about our historic landscape. \nGarden Walk & Talk is open to the public – the tour is included with regular Gardens admission\, and it’s free for Bellingrath members. No advance registration required. \nJoin us each month to connect with nature\, learn something new\, and enjoy the ever-changing beauty of the Gardens! \n\nDate: May 27\, 2026\nTime: 10:30 – 11:30 AM\nPurchase Tickets
URL:https://bellingrath.org/event/garden-walk-talk-12/
CATEGORIES:Adult Education,Annual Events,Events
ATTACH;FMTTYPE=image/png:https://bellingrath.org/wp-content/uploads/2025/12/Garden-Walk-Talk.png
END:VEVENT
BEGIN:VEVENT
DTSTART;TZID=America/Chicago:20260610T103000
DTEND;TZID=America/Chicago:20260610T120000
DTSTAMP:20260424T083538
CREATED:20260223T175723Z
LAST-MODIFIED:20260223T203334Z
UID:10000280-1781087400-1781092800@bellingrath.org
SUMMARY:Kombucha Workshop
DESCRIPTION:Ever picked up a $5 bottle of kombucha and thought\, “I could totally make this myself”? You absolutely can. \nThis is your sign to take back your pantry. Brewing your own kombucha is surprisingly simple\, budget-friendly\, and one of the easiest low-waste swaps you can make. With just a few basic ingredients and a little patience\, you’ll have a steady supply of fizzy\, gut-friendly goodness at a fraction of the cost. \nIt’s low-maintenance. It’s sustainable. And honestly? Watching that first bubbly batch come to life is pretty magical. \nMember: $25 | Non-member: $30 (Gardens Admission included) \nPlan Your Visit\nDon’t miss this opportunity to turn simple ingredients into something delicious\, sustainable\, and uniquely yours with Jack Upton. \n\nDate: June 10\, 2026\nTime: 10:30 AM – 12:00 PM\nLocation: Magnolia Room\nPurchase Tickets
URL:https://bellingrath.org/event/kombucha-workshop/
CATEGORIES:Adult Education,Art,Events
ATTACH;FMTTYPE=image/png:https://bellingrath.org/wp-content/uploads/2026/02/cover-3.png
END:VEVENT
BEGIN:VEVENT
DTSTART;TZID=America/Chicago:20260624T103000
DTEND;TZID=America/Chicago:20260624T113000
DTSTAMP:20260424T083538
CREATED:20260223T163453Z
LAST-MODIFIED:20260420T133947Z
UID:10000278-1782297000-1782300600@bellingrath.org
SUMMARY:Garden Walk & Talk
DESCRIPTION:Experience the beauty of Bellingrath Gardens in every season during our Garden Walk & Talk\, held on the last Wednesday of each month from 10:30 to 11:30 a.m. This engaging monthly garden tour is led by our knowledgeable horticulture experts\, who share insights into what’s blooming\, garden care tips\, and behind-the-scenes details about our historic landscape. \nGarden Walk & Talk is open to the public – the tour is included with regular Gardens admission\, and it’s free for Bellingrath members. No advance registration required. \nJoin us each month to connect with nature\, learn something new\, and enjoy the ever-changing beauty of the Gardens! \n\nDate: June 24\, 2026\nTime: 10:30 – 11:30 AM\nPurchase Tickets
URL:https://bellingrath.org/event/garden-walk-talk-13/
CATEGORIES:Adult Education,Annual Events,Events
ATTACH;FMTTYPE=image/png:https://bellingrath.org/wp-content/uploads/2025/12/Garden-Walk-Talk.png
END:VEVENT
END:VCALENDAR