BEGIN:VCALENDAR
VERSION:2.0
PRODID:-//Bellingrath Gardens - ECPv6.15.20//NONSGML v1.0//EN
CALSCALE:GREGORIAN
METHOD:PUBLISH
X-ORIGINAL-URL:https://bellingrath.org
X-WR-CALDESC:Events for Bellingrath Gardens
REFRESH-INTERVAL;VALUE=DURATION:PT1H
X-Robots-Tag:noindex
X-PUBLISHED-TTL:PT1H
BEGIN:VTIMEZONE
TZID:America/Chicago
BEGIN:DAYLIGHT
TZOFFSETFROM:-0600
TZOFFSETTO:-0500
TZNAME:CDT
DTSTART:20250309T080000
END:DAYLIGHT
BEGIN:STANDARD
TZOFFSETFROM:-0500
TZOFFSETTO:-0600
TZNAME:CST
DTSTART:20251102T070000
END:STANDARD
BEGIN:DAYLIGHT
TZOFFSETFROM:-0600
TZOFFSETTO:-0500
TZNAME:CDT
DTSTART:20260308T080000
END:DAYLIGHT
BEGIN:STANDARD
TZOFFSETFROM:-0500
TZOFFSETTO:-0600
TZNAME:CST
DTSTART:20261101T070000
END:STANDARD
BEGIN:DAYLIGHT
TZOFFSETFROM:-0600
TZOFFSETTO:-0500
TZNAME:CDT
DTSTART:20270314T080000
END:DAYLIGHT
BEGIN:STANDARD
TZOFFSETFROM:-0500
TZOFFSETTO:-0600
TZNAME:CST
DTSTART:20271107T070000
END:STANDARD
END:VTIMEZONE
BEGIN:VEVENT
DTSTART;TZID=America/Chicago:20260311T103000
DTEND;TZID=America/Chicago:20260311T113000
DTSTAMP:20260420T023004
CREATED:20251211T154209Z
LAST-MODIFIED:20251211T154209Z
UID:10000258-1773225000-1773228600@bellingrath.org
SUMMARY:Through the Garden Gate: A Collection of Garden Stories
DESCRIPTION:Join Carleton Wood\, Executive Director of Hills & Dales Estate\, for an engaging presentation reflecting on more than 30 years in public gardens. Carleton will share why he chose horticulture as his life’s work\, offering stories and insights from his time at Tryon Palace in New Bern\, The Elizabethan Gardens in Manteo\, and Hills & Dales Estate in LaGrange. Along the way\, he’ll highlight memorable people\, remarkable plants\, and the lessons learned throughout a rich and varied career. \nPlan Your Visit\nDon’t miss this opportunity to hear firsthand wisdom from a lifetime dedicated to gardens. \n\nDate: March 11th\nTime: 10:30 – 11:30 AM\nLocation: Magnolia Room\, Bellingrath Gardens & Home\nPurchase Tickets
URL:https://bellingrath.org/event/through-the-garden-gate-a-collection-of-garden-stories/
CATEGORIES:Adult Education,Events
ATTACH;FMTTYPE=image/png:https://bellingrath.org/wp-content/uploads/2025/12/FB-event-cover-21.png
END:VEVENT
END:VCALENDAR