BEGIN:VCALENDAR
VERSION:2.0
PRODID:-//Bellingrath Gardens - ECPv6.15.20//NONSGML v1.0//EN
CALSCALE:GREGORIAN
METHOD:PUBLISH
X-WR-CALNAME:Bellingrath Gardens
X-ORIGINAL-URL:https://bellingrath.org
X-WR-CALDESC:Events for Bellingrath Gardens
REFRESH-INTERVAL;VALUE=DURATION:PT1H
X-Robots-Tag:noindex
X-PUBLISHED-TTL:PT1H
BEGIN:VTIMEZONE
TZID:America/Chicago
BEGIN:DAYLIGHT
TZOFFSETFROM:-0600
TZOFFSETTO:-0500
TZNAME:CDT
DTSTART:20240310T080000
END:DAYLIGHT
BEGIN:STANDARD
TZOFFSETFROM:-0500
TZOFFSETTO:-0600
TZNAME:CST
DTSTART:20241103T070000
END:STANDARD
BEGIN:DAYLIGHT
TZOFFSETFROM:-0600
TZOFFSETTO:-0500
TZNAME:CDT
DTSTART:20250309T080000
END:DAYLIGHT
BEGIN:STANDARD
TZOFFSETFROM:-0500
TZOFFSETTO:-0600
TZNAME:CST
DTSTART:20251102T070000
END:STANDARD
BEGIN:DAYLIGHT
TZOFFSETFROM:-0600
TZOFFSETTO:-0500
TZNAME:CDT
DTSTART:20260308T080000
END:DAYLIGHT
BEGIN:STANDARD
TZOFFSETFROM:-0500
TZOFFSETTO:-0600
TZNAME:CST
DTSTART:20261101T070000
END:STANDARD
END:VTIMEZONE
BEGIN:VEVENT
DTSTART;TZID=America/Chicago:20251203T100000
DTEND;TZID=America/Chicago:20251203T113000
DTSTAMP:20260425T143620
CREATED:20250820T213935Z
LAST-MODIFIED:20250904T163415Z
UID:10000217-1764756000-1764761400@bellingrath.org
SUMMARY:Poinsettia Wine Bottle Workshop
DESCRIPTION:Bring your own wine bottle and paint a beautiful poinsettia design in this festive holiday workshop! Our instructors will guide you step by step as you create a charming hand-painted decoration\, perfect for adding holiday cheer to your home or gifting to someone special. No painting experience necessary—just bring your creativity and holiday spirit! \nPlan Your Visit\nDon’t miss this opportunity to create a hand-painted holiday keepsake that’s as festive as it is unique. \n\nDate: December 3rd\nTime: 10:00 – 11:30 AM\nLocation: Magnolia Room\, Bellingrath Gardens & Home\nPurchase Tickets
URL:https://bellingrath.org/event/poinsettia-wine-bottle-workshop/
CATEGORIES:Adult Education,Events
ATTACH;FMTTYPE=image/jpeg:https://bellingrath.org/wp-content/uploads/2025/08/poinsettia-wine-bottle.jpg
END:VEVENT
END:VCALENDAR