BEGIN:VCALENDAR
VERSION:2.0
PRODID:-//Bellingrath Gardens - ECPv6.15.20//NONSGML v1.0//EN
CALSCALE:GREGORIAN
METHOD:PUBLISH
X-WR-CALNAME:Bellingrath Gardens
X-ORIGINAL-URL:https://bellingrath.org
X-WR-CALDESC:Events for Bellingrath Gardens
REFRESH-INTERVAL;VALUE=DURATION:PT1H
X-Robots-Tag:noindex
X-PUBLISHED-TTL:PT1H
BEGIN:VTIMEZONE
TZID:America/Chicago
BEGIN:DAYLIGHT
TZOFFSETFROM:-0600
TZOFFSETTO:-0500
TZNAME:CDT
DTSTART:20240310T080000
END:DAYLIGHT
BEGIN:STANDARD
TZOFFSETFROM:-0500
TZOFFSETTO:-0600
TZNAME:CST
DTSTART:20241103T070000
END:STANDARD
BEGIN:DAYLIGHT
TZOFFSETFROM:-0600
TZOFFSETTO:-0500
TZNAME:CDT
DTSTART:20250309T080000
END:DAYLIGHT
BEGIN:STANDARD
TZOFFSETFROM:-0500
TZOFFSETTO:-0600
TZNAME:CST
DTSTART:20251102T070000
END:STANDARD
BEGIN:DAYLIGHT
TZOFFSETFROM:-0600
TZOFFSETTO:-0500
TZNAME:CDT
DTSTART:20260308T080000
END:DAYLIGHT
BEGIN:STANDARD
TZOFFSETFROM:-0500
TZOFFSETTO:-0600
TZNAME:CST
DTSTART:20261101T070000
END:STANDARD
END:VTIMEZONE
BEGIN:VEVENT
DTSTART;VALUE=DATE:20250221
DTEND;VALUE=DATE:20250224
DTSTAMP:20260420T021843
CREATED:20250210T192720Z
LAST-MODIFIED:20250210T192720Z
UID:10000140-1740096000-1740355199@bellingrath.org
SUMMARY:Mobile Area Orchid Society's Annual Orchid Show and Sale
DESCRIPTION:Mobile Area Orchid Society’s Annual Orchid Show and Sale\nBellingrath Gardens and Home is proud to host the Mobile Area Orchid Society’s 46th Annual Orchid Show and Sale from Friday\, February 21- 23\, 2025. Society members will showcase their finest orchids and be on hand to answer questions and offer expert advice on orchid care and cultivation. Vendors will have a variety of orchids\, supplies\, and accessories available for purchase. Guests can also browse new spring merchandise in the Bellingrath Gift Shop. Admission to the Orchid Show is free\, though visitors are encouraged to explore the Gardens and Home during their visit. The Magnolia Café will serve lunch from 11 AM to 2 PM\, providing a convenient dining option before or after enjoying the stunning orchid displays. \nPlan Your Visit\n\nDate: February 21-23\nTime: Friday\, 10:00 – 5:00 PM | Saturday\, 10:00 – 5:00 PM | Sunday\, 10:00 – 3:00 PM \nLocation: Cafe\, Bellingrath Gardens & Home
URL:https://bellingrath.org/event/mobile-area-orchid-societys-annual-orchid-show-and-sale/
CATEGORIES:Adult Education,Annual Events,Events
ATTACH;FMTTYPE=image/png:https://bellingrath.org/wp-content/uploads/2025/02/Event-Covers-10.png
END:VEVENT
END:VCALENDAR