BEGIN:VCALENDAR
VERSION:2.0
PRODID:-//Bellingrath Gardens - ECPv6.15.20//NONSGML v1.0//EN
CALSCALE:GREGORIAN
METHOD:PUBLISH
X-ORIGINAL-URL:https://bellingrath.org
X-WR-CALDESC:Events for Bellingrath Gardens
REFRESH-INTERVAL;VALUE=DURATION:PT1H
X-Robots-Tag:noindex
X-PUBLISHED-TTL:PT1H
BEGIN:VTIMEZONE
TZID:America/Chicago
BEGIN:DAYLIGHT
TZOFFSETFROM:-0600
TZOFFSETTO:-0500
TZNAME:CDT
DTSTART:20240310T080000
END:DAYLIGHT
BEGIN:STANDARD
TZOFFSETFROM:-0500
TZOFFSETTO:-0600
TZNAME:CST
DTSTART:20241103T070000
END:STANDARD
BEGIN:DAYLIGHT
TZOFFSETFROM:-0600
TZOFFSETTO:-0500
TZNAME:CDT
DTSTART:20250309T080000
END:DAYLIGHT
BEGIN:STANDARD
TZOFFSETFROM:-0500
TZOFFSETTO:-0600
TZNAME:CST
DTSTART:20251102T070000
END:STANDARD
BEGIN:DAYLIGHT
TZOFFSETFROM:-0600
TZOFFSETTO:-0500
TZNAME:CDT
DTSTART:20260308T080000
END:DAYLIGHT
BEGIN:STANDARD
TZOFFSETFROM:-0500
TZOFFSETTO:-0600
TZNAME:CST
DTSTART:20261101T070000
END:STANDARD
END:VTIMEZONE
BEGIN:VEVENT
DTSTART;TZID=America/Chicago:20250215T083000
DTEND;TZID=America/Chicago:20250215T093000
DTSTAMP:20260422T143416
CREATED:20250204T161324Z
LAST-MODIFIED:20250204T161324Z
UID:10000139-1739608200-1739611800@bellingrath.org
SUMMARY:Yoga in the Gardens
DESCRIPTION:Find Your Inner Peace in Nature\nJoin us for a serene and invigorating session of Yoga in the Gardens at the beautiful Bellingrath Gardens & Home. Led by instructors from Above and Beyond Yoga Studio\, this exclusive event promises to be a rejuvenating experience that combines the art of yoga with the natural beauty of our gardens. \nPrepare for the Class \nTo ensure the best yoga experience in the peaceful surroundings of Bellingrath\, please bring the following: \n\nYoga mat\nTowel\nWater bottle\n\nArriving a little early will give you plenty of time to check in and make your way to the day’s class location\, set against the stunning backdrop of the gardens.  \nPlease note that class may move indoors due to weather. \nMembership Benefits\nAs a valued member of Bellingrath Gardens & Home\, you can enjoy this event as part of your membership benefits. Non-members are welcome too\, with the cost of the class included in the standard Gardens Admission fee. \nConnect with Nature and Community\nThis Yoga in the Gardens event is not just a class; it’s an opportunity to connect with nature and a community of like-minded individuals. Whether you are a seasoned yogi or new to the practice\, you will find a welcoming space to stretch\, strengthen\, and relax among the tranquil surroundings. \nPlan Your Visit\nDon’t miss this unique opportunity to explore the rich heritage of the Gulf Coast with one of its foremost historians. \n\nDate: February 15th\nTime: 8:30 AM\nLocation: Bellingrath Gardens & Home\n\nIncluded with Gardens Admission or Membership
URL:https://bellingrath.org/event/yoga-in-the-gardens-7/
CATEGORIES:Adult Education,Blooms & Beyond,Events
ATTACH;FMTTYPE=image/png:https://bellingrath.org/wp-content/uploads/2025/02/Event-Covers-8.png
END:VEVENT
END:VCALENDAR